BEGIN:VCALENDAR
VERSION:2.0
PRODID:-//eventon.com NONSGML v1.0//EN
CALSCALE:GREGORIAN
METHOD:PUBLISH
BEGIN:VEVENT
UID:69e5e440e7533
DTSTAMP:20260420T083056Z
DTSTART:20241208T170000Z
DTEND:20241208T220000Z
LOCATION:King of Prussia 989 Old Eagle School Rd
SUMMARY:Rocket League End of Season Tournament
DESCRIPTION:UPLINK KOP WILL REMAIN OPEN TO THE PUBLIC\nhttps://uplink.gg/ev
 ents/rocket-league-end-of-season-tournament-2/
URL:https://uplink.gg/events/rocket-league-end-of-season-tournament-2/
END:VEVENT
END:VCALENDAR