BEGIN:VCALENDAR
VERSION:2.0
PRODID:-//eventon.com NONSGML v1.0//EN
CALSCALE:GREGORIAN
METHOD:PUBLISH
BEGIN:VEVENT
UID:69e7346182d2d
DTSTAMP:20260421T082505Z
DTSTART:20240518T130000Z
DTEND:20240519T210000Z
LOCATION:King of Prussia 989 Old Eagle School Rd
SUMMARY:The Uplink Open
DESCRIPTION:Uplink KOP will host our first-ever tournament during the PGA C
 hampionship! Stay tuned for more details! and sign up to be notified when w
 e open registration! Notify me\nhttps://uplink.gg/events/the-uplink-open/
URL:https://uplink.gg/events/the-uplink-open/
END:VEVENT
END:VCALENDAR