BEGIN:VCALENDAR
VERSION:2.0
PRODID:-//eventon.com NONSGML v1.0//EN
CALSCALE:GREGORIAN
METHOD:PUBLISH
BEGIN:VEVENT
UID:69e5fbf1ae7f0
DTSTAMP:20260420T101201Z
DTSTART:20251226
DTEND:20251227
LOCATION:
SUMMARY:Winter Day Camp
DESCRIPTION:Kids are off!&nbsp; Uplink has the solution!&nbsp; Uplink Day C
 amp offers a perfect mix of activities to keep kids busy! -Outdoor activiti
 es include Gaga Ball\,  Cornhole\,  Kid Ax Throwing and more (weather permi
 tting) -Indoor Activities include Relays and Time Trials using Blaze Pods -
 Healthy dose of gaming including: Roblox\,  Fortnite\, [..]\nhttps://uplink
 .gg/events/winter-day-camp/
URL:https://uplink.gg/events/winter-day-camp/
END:VEVENT
END:VCALENDAR